BEGIN:VCALENDAR
VERSION:2.0
PRODID:-//Abundant Life Baptist Church - ECPv6.15.20//NONSGML v1.0//EN
CALSCALE:GREGORIAN
METHOD:PUBLISH
X-ORIGINAL-URL:https://albc.ca
X-WR-CALDESC:Events for Abundant Life Baptist Church
REFRESH-INTERVAL;VALUE=DURATION:PT1H
X-Robots-Tag:noindex
X-PUBLISHED-TTL:PT1H
BEGIN:VTIMEZONE
TZID:America/Winnipeg
BEGIN:DAYLIGHT
TZOFFSETFROM:-0600
TZOFFSETTO:-0500
TZNAME:CDT
DTSTART:20210314T080000
END:DAYLIGHT
BEGIN:STANDARD
TZOFFSETFROM:-0500
TZOFFSETTO:-0600
TZNAME:CST
DTSTART:20211107T070000
END:STANDARD
BEGIN:DAYLIGHT
TZOFFSETFROM:-0600
TZOFFSETTO:-0500
TZNAME:CDT
DTSTART:20220313T080000
END:DAYLIGHT
BEGIN:STANDARD
TZOFFSETFROM:-0500
TZOFFSETTO:-0600
TZNAME:CST
DTSTART:20221106T070000
END:STANDARD
BEGIN:DAYLIGHT
TZOFFSETFROM:-0600
TZOFFSETTO:-0500
TZNAME:CDT
DTSTART:20230312T080000
END:DAYLIGHT
BEGIN:STANDARD
TZOFFSETFROM:-0500
TZOFFSETTO:-0600
TZNAME:CST
DTSTART:20231105T070000
END:STANDARD
BEGIN:DAYLIGHT
TZOFFSETFROM:-0600
TZOFFSETTO:-0500
TZNAME:CDT
DTSTART:20240310T080000
END:DAYLIGHT
BEGIN:STANDARD
TZOFFSETFROM:-0500
TZOFFSETTO:-0600
TZNAME:CST
DTSTART:20241103T070000
END:STANDARD
BEGIN:DAYLIGHT
TZOFFSETFROM:-0600
TZOFFSETTO:-0500
TZNAME:CDT
DTSTART:20250309T080000
END:DAYLIGHT
BEGIN:STANDARD
TZOFFSETFROM:-0500
TZOFFSETTO:-0600
TZNAME:CST
DTSTART:20251102T070000
END:STANDARD
BEGIN:DAYLIGHT
TZOFFSETFROM:-0600
TZOFFSETTO:-0500
TZNAME:CDT
DTSTART:20260308T080000
END:DAYLIGHT
BEGIN:STANDARD
TZOFFSETFROM:-0500
TZOFFSETTO:-0600
TZNAME:CST
DTSTART:20261101T070000
END:STANDARD
END:VTIMEZONE
BEGIN:VEVENT
DTSTART;TZID=America/Winnipeg:20251031T170000
DTEND;TZID=America/Winnipeg:20251031T203000
DTSTAMP:20260421T065958
CREATED:20250929T172022Z
LAST-MODIFIED:20250929T172114Z
UID:3077-1761930000-1761942600@albc.ca
SUMMARY:TAILGATES & TREATS
DESCRIPTION:October 31st swing by for a minute or an hour!!! 5:00 – 8:30 pm \nA safe and fun option for kids\, moms and dads to come and enjoy some BBQ and Hot Chocolate or coffee.\nLots of treats for the kids and moms and dads as well as a place to rest and warm up! \nWe will have stations set up for treats as well as food and games \nTreats\nHot Chocolate\nCoffee for Mom and Dad\nFood\nMusic\nGames\nand more \n** This is a free community event but we will be accepting coin offering for the benevolent fund to help us assist in feeding families in our community \n1396 Plessis road in the back parking lot!
URL:https://albc.ca/event/tailgates-treats/
CATEGORIES:Children,Church Wide,Family,Night Church,Seniors,Women,Young Adults,Youth
ATTACH;FMTTYPE=image/png:https://albc.ca/wp-content/uploads/2025/09/Halloween-2025-2-scaled-e1759166311566.png
END:VEVENT
BEGIN:VEVENT
DTSTART;TZID=America/Winnipeg:20250501T190000
DTEND;TZID=America/Winnipeg:20250501T210000
DTSTAMP:20260421T065958
CREATED:20250409T160959Z
LAST-MODIFIED:20250409T161128Z
UID:3049-1746126000-1746133200@albc.ca
SUMMARY:Are you ready with Answers? - Creation Ministries International @ ALBC
DESCRIPTION:Join us Thursday May 1\, 2025 @ Abundant Life Baptist Church 7pm \nAs Matt Bondy presents a Scientific and Biblical Defense of Creation \nThere will be a Question and Answer Session following the presentation \nThere is no cost to attend this presentation\, there will be a free will offering and resources will be available for sale after the event. \nFor information please feel free to contact Rodney Neufeld Youth and Community Pastor – rod@albc.ca
URL:https://albc.ca/event/are-you-ready-with-answers/
CATEGORIES:Children,Church Wide,Men,Night Church,Seniors,Women,Young Adults,Youth
END:VEVENT
BEGIN:VEVENT
DTSTART;TZID=America/Winnipeg:20250328T190000
DTEND;TZID=America/Winnipeg:20250328T213000
DTSTAMP:20260421T065958
CREATED:20250307T143943Z
LAST-MODIFIED:20250307T151023Z
UID:3037-1743188400-1743197400@albc.ca
SUMMARY:Camp Nutimik Worship Night @ ALBC
DESCRIPTION:Join us for a night of music and worship with the Nutimik Worship Band.\nFriday March 28th\, 2025 @ 7:00 (Doors open @ 6:30)\nAll Youth and Young Adults Welcome!\nThis is a free event!!!\nCome and celebrate Jesus with us!!
URL:https://albc.ca/event/camp-nutimik-worship-night-albc/
LOCATION:Abundant Life Baptist Church\, 1396 Plessis Road\, Winnipeg\, Manitoba\, R2C 4L1
CATEGORIES:Children,Church Wide,Night Church,Young Adults,Youth
ATTACH;FMTTYPE=image/png:https://albc.ca/wp-content/uploads/2025/03/Screenshot-2025-03-07-083334-e1741358346443.png
END:VEVENT
BEGIN:VEVENT
DTSTART;TZID=America/Winnipeg:20240915T183000
DTEND;TZID=America/Winnipeg:20240915T200000
DTSTAMP:20260421T065958
CREATED:20231117T155340Z
LAST-MODIFIED:20240909T181922Z
UID:2685-1726425000-1726430400@albc.ca
SUMMARY:Night Church - Which Road do we take - Why do they hate me?
DESCRIPTION:Which Road do we take – Why do they hate me?\n  \n\nHe never said it would be an easy walk\, not just the hate and persecution but loving those who treat you that way…….\n\n\nSometimes we gotta walk away but that shouldn’t stop us from loving and praying for those that persecutes us….Jesus did\nNot just Sunday mornings…but “the other 6 days” as well\n\n  \nJoin us Sunday night at 6:30\, “This is Night Church”
URL:https://albc.ca/event/night-church/
CATEGORIES:Church Wide,Family,Men,Seniors,Women,Young Adults,Youth
ATTACH;FMTTYPE=image/png:https://albc.ca/wp-content/uploads/2023/11/Untitled-8-e1725905943891.png
END:VEVENT
BEGIN:VEVENT
DTSTART;TZID=America/Winnipeg:20240915T103000
DTEND;TZID=America/Winnipeg:20240915T120000
DTSTAMP:20260421T065958
CREATED:20240821T175519Z
LAST-MODIFIED:20240909T131802Z
UID:2981-1726396200-1726401600@albc.ca
SUMMARY:Ministry Launch Sunday!!
DESCRIPTION:Join us Sunday September 15th for Ministry Launch Sunday!!\nNot only to see what is happening but where you can find a place to grow and serve!!! Stay for Lunch and Talk to Ministry leaders\, find out what’s happening and how you can be a part of it in service\, and in prayer!\n  \n 
URL:https://albc.ca/event/ministry-launch-sunday/
CATEGORIES:Children,Church Wide,Family,Men,Seniors,Women,Young Adults,Youth
ATTACH;FMTTYPE=image/png:https://albc.ca/wp-content/uploads/2024/08/Launch-wide-e1724262891907.png
END:VEVENT
BEGIN:VEVENT
DTSTART;TZID=America/Winnipeg:20240914T130000
DTEND;TZID=America/Winnipeg:20240914T160000
DTSTAMP:20260421T065958
CREATED:20240821T183405Z
LAST-MODIFIED:20240821T183423Z
UID:2984-1726318800-1726329600@albc.ca
SUMMARY:Youth Family Kick-Off BBQ
DESCRIPTION:Youth and Family are invited to our Kick-off BBQ!!\nFood\, Fun and fellowship!!\n  \nSaturday Sept 14\, 1-4\nFeel free to bring a salad\, dessert or side dish (not mandatory)\n  \n 
URL:https://albc.ca/event/youth-family-kick-off-bbq/
CATEGORIES:Church Wide,Family,Young Adults,Youth
ATTACH;FMTTYPE=image/png:https://albc.ca/wp-content/uploads/2024/08/Youth-kickoff-e1724265237174.png
END:VEVENT
BEGIN:VEVENT
DTSTART;TZID=America/Winnipeg:20240901T163000
DTEND;TZID=America/Winnipeg:20240901T183000
DTSTAMP:20260421T065958
CREATED:20240821T184247Z
LAST-MODIFIED:20240827T180418Z
UID:2987-1725208200-1725215400@albc.ca
SUMMARY:Night Church Kick-off BBQ Fellowship
DESCRIPTION:We would like to invite you to the Fall session of Night Church with a BBQ Fellowship\nWe will provide the Meat and Buns and Meat lol\nFeel free (but not necessary) Salads and sides if you wish!\nJoin us after the BBQ  for the Night Church service!
URL:https://albc.ca/event/night-church-kick-off-bbq-fellowship/
CATEGORIES:Church Wide,Night Church
ATTACH;FMTTYPE=image/png:https://albc.ca/wp-content/uploads/2024/08/Night-Church-BBQ-e1724265758265.png
END:VEVENT
BEGIN:VEVENT
DTSTART;TZID=America/Winnipeg:20240825T103000
DTEND;TZID=America/Winnipeg:20240825T120000
DTSTAMP:20260421T065958
CREATED:20230821T204743Z
LAST-MODIFIED:20240821T172401Z
UID:2556-1724581800-1724587200@albc.ca
SUMMARY:Sunday Morning Service - John 11 Believe in Jesus\, The Resurrection and the Life
DESCRIPTION:John 11 Believe in Jesus\, The Resurrection and the Life  \nA horrible event happened\, the death of one of Jesus’ closest friends. In the midst of sadness and despair\, Jesus made an interesting and powerful claim. He is the resurrection and the life. And then he backed it up. Do you believe?\n1 Corinthians 15:12-28
URL:https://albc.ca/event/sunday-morning-service-they-had-been-with-jesus/
CATEGORIES:Children,Church Wide,Family,Men,Women,Youth
ATTACH;FMTTYPE=image/png:https://albc.ca/wp-content/uploads/2023/08/believe-square-e1714578930955.png
END:VEVENT
BEGIN:VEVENT
DTSTART;TZID=America/Winnipeg:20240609T103000
DTEND;TZID=America/Winnipeg:20240609T120000
DTSTAMP:20260421T065958
CREATED:20230911T161515Z
LAST-MODIFIED:20240605T163833Z
UID:2583-1717929000-1717934400@albc.ca
SUMMARY:Communion Sunday 10:30am & 6:30pm
DESCRIPTION:Communion – Join us for the Lords supper this Sunday at Day and Night Service\n\n\n 
URL:https://albc.ca/event/night-church-the-narrow-way-is-that-really-more-important/
CATEGORIES:Church Wide
ATTACH;FMTTYPE=image/png:https://albc.ca/wp-content/uploads/2023/09/Communion-e1699456644369.png
END:VEVENT
BEGIN:VEVENT
DTSTART;TZID=America/Winnipeg:20240608T120000
DTEND;TZID=America/Winnipeg:20240608T160000
DTSTAMP:20260421T065958
CREATED:20231228T174128Z
LAST-MODIFIED:20240607T145710Z
UID:2760-1717848000-1717862400@albc.ca
SUMMARY:Hi Neighbour! Join us Saturday from 12-4 at the Festival!
DESCRIPTION:We will be setting up a table at the festival handing our information.\nThank you to John and Travis for holding a bike tune-up clinic for the community!\n 
URL:https://albc.ca/event/hineighbour/
LOCATION:Abundant Life Baptist Church\, 1396 Plessis Road\, Winnipeg\, Manitoba\, R2C 4L1
CATEGORIES:Church Wide
ATTACH;FMTTYPE=image/png:https://albc.ca/wp-content/uploads/2023/12/hineighbour-e1717629317524.png
END:VEVENT
BEGIN:VEVENT
DTSTART;TZID=America/Winnipeg:20231202T140000
DTEND;TZID=America/Winnipeg:20231202T160000
DTSTAMP:20260421T065958
CREATED:20220429T170000Z
LAST-MODIFIED:20231122T173056Z
UID:2086-1701525600-1701532800@albc.ca
SUMMARY:ALBC Ladies - Candle making and Tea Time!
DESCRIPTION:Ladies!!! \nJoin us for Candle making and tea time Saturday Dec 2nd from 2 – 4 p.m. \nBring $5 to help with supplies and bring some baking to share if you wish!! \nPlease RSVP to Patricia at mamapatooty@gmail.com \n(We need to know how much candle stuff to bring) \n1396 Plessis Road\, Winnipeg\, Manitoba
URL:https://albc.ca/event/high-tea-albc-ladies/
CATEGORIES:Church Wide,Seniors,Women,Young Adults
ATTACH;FMTTYPE=image/png:https://albc.ca/wp-content/uploads/2022/04/Candle-dec2-e1700673689126.png
END:VEVENT
BEGIN:VEVENT
DTSTART;TZID=America/Winnipeg:20231015T103000
DTEND;TZID=America/Winnipeg:20231015T120000
DTSTAMP:20260421T065958
CREATED:20230512T160133Z
LAST-MODIFIED:20231010T205023Z
UID:2423-1697365800-1697371200@albc.ca
SUMMARY:Sunday Morning Service - Caleb and Raquel Enns + International Dessert Fellowship
DESCRIPTION:Sunday Morning Service – Caleb and Raquel Enns\nJoin us Sunday morning and we worship and praise the Lord and hear from\nCaleb and Raquel Enns about their time serving the Lord in Northern Thailand!\nFollowing the service we will be having an International Dessert Fellowship\n  \n 
URL:https://albc.ca/event/1030-am-service-the-dirt-inside/
CATEGORIES:Church Wide
ATTACH;FMTTYPE=image/jpeg:https://albc.ca/wp-content/uploads/2023/05/Dessert-.jpg
END:VEVENT
BEGIN:VEVENT
DTSTART;TZID=America/Winnipeg:20230820T183000
DTEND;TZID=America/Winnipeg:20230820T200000
DTSTAMP:20260421T065958
CREATED:20230710T171645Z
LAST-MODIFIED:20230816T130848Z
UID:2497-1692556200-1692561600@albc.ca
SUMMARY:New Series! The Narrow Way
DESCRIPTION:NIGHT CHURCH – The Narrow Way\nWhat does this mean? The bible says\, Jesus Says Straight is the way\, narrow is the gate….\nis it easy? is it hard? What’s with the “Gate”?\nSpoiler alert… it’s gonna take some effort and you will be changed!\nSee you Sunday night @6:30\nOk\, so I am a Christian and now I’m supposed to be perfect?\nChrist has given the tools we need to walk blameless in a broken and hurting world.\nThe fruit of the Spirit shows us the fruit that needs to come from us as we do this\, it reminds us what it looks like to walk blameless!\nJoin us over the next few weeks as we take a look at this fruit\, how we can produce it and what it looks like\nthis is Night Church
URL:https://albc.ca/event/night-church-walking-blameless-fruit-of-the-spirit-gentleness-kindness/
CATEGORIES:Church Wide,Family,Men,Women,Youth
ATTACH;FMTTYPE=image/png:https://albc.ca/wp-content/uploads/2023/07/Narrow-Path-week-1-e1692191173742.png
END:VEVENT
BEGIN:VEVENT
DTSTART;TZID=America/Winnipeg:20230624T090000
DTEND;TZID=America/Winnipeg:20230624T140000
DTSTAMP:20260421T065958
CREATED:20230526T171701Z
LAST-MODIFIED:20230526T171901Z
UID:2454-1687597200-1687615200@albc.ca
SUMMARY:Annual Community Garage Sale for Freedom House
DESCRIPTION:Join us June 24th from 9:00 till 2:00 For our Annual Garage Sale Fundraiser\n\nWE have added some awesome stuff this year!! \nFree Community Bicycle Tune-up\, bring your bike for a tune-up on us! \nwe are also having a BBQ with all proceeds going to Freedom House\, Helping the Homeless and Vulnerable in Winnipeg!! \nA huge selection of Great items\, Furniture\, Household Goods\, Toys and MORE!! \nFor additional info on the Contact ALBC or info@freedomhousewpg.ca
URL:https://albc.ca/event/annual-community-garage-sale-for-freedom-house/
CATEGORIES:Children,Church Wide,Family,Men,Women,Youth
ATTACH;FMTTYPE=image/png:https://albc.ca/wp-content/uploads/2023/05/My-project-1-4-e1685121174426.png
END:VEVENT
BEGIN:VEVENT
DTSTART;TZID=America/Winnipeg:20230521T183000
DTEND;TZID=America/Winnipeg:20230521T200000
DTSTAMP:20260421T065958
CREATED:20230512T161008Z
LAST-MODIFIED:20230516T200127Z
UID:2427-1684693800-1684699200@albc.ca
SUMMARY:Night Church - Equipping for the Journey - Know what you believe and why!
DESCRIPTION:Know what you believe and why!\nIt’s not just about knowing WHO God is\, \nIt’s about knowing God\, What He has done\, What He is Doing\, What He is going to Do and Why! \nFaith is making the leap from knowing facts to truly knowing and surrendering to the “Fact Maker” \nFinding out that we have a purpose\, one that is far greater than any purpose we can come up with for ourselves! \n  \nCome Sunday night @ 6:30\, bring your thoughts and questions!!\n\n“COME AS YOU ARE!”\n \nHave you ever been curious…\nEver wondered what church and God are all about…\nAre you curious what hope is supposed to look like….\nDo you aver ask\, is life more than what I see in front of me?\nLife is hard and we weren’t meant to walk it without hope\, without joy or without peace. It took me a long time of running from a God a thought I knew to see that.\nI’d like to introduce everyone to THE God\, the one that found me and showed me we were meant for so much more.\nDoesn’t matter what we’ve done\, what we look like or what people may think of us. It’s about knowing a God that wants something more for us than just simply surviving. He doesn’t care about our past\, He wants to give us a better future.\nCome and see for yourself then decide for yourself\, in a place that is safe and you are free to question and ask questions and expect a response not just a quick answer\, I had those questions\, so I want to be able to try and answer them\, I’m gonna fail at times\, because we all do at times. That’s why God gives us Grace…\nSee what it looks like\, Sunday nights at 6:30\nNight Church…where “come as you are” means what it says.\n 
URL:https://albc.ca/event/night-church-mom-god-values-you/
CATEGORIES:Church Wide,Men,Women,Youth
ATTACH;FMTTYPE=image/png:https://albc.ca/wp-content/uploads/2023/05/action-e1684267239280.png
END:VEVENT
BEGIN:VEVENT
DTSTART;TZID=America/Winnipeg:20230430T183000
DTEND;TZID=America/Winnipeg:20230430T200000
DTSTAMP:20260421T065958
CREATED:20211009T030839Z
LAST-MODIFIED:20230426T153625Z
UID:1611-1682879400-1682884800@albc.ca
SUMMARY:Night Church: Equipping for the journey - God's list of rules
DESCRIPTION:Equipping for the journey\nGod’s list of rules\nWhether you don’t know God at all\, are a new believer or have been walking in faith for years\, We have all been faced with that moment when someone asks a question.\n**Sometimes the bible says something that people either don’t get or it makes them upset. \nWhat does it mean? \nhow do we explain it? \nWe need to be able to offer an answer for those things people ask us\, we need to know what we believe if we are going to share it with others and grow in our faith…or find it in the first place. \nEquipping for the journey:\nLife is a journey and our walk of faith is a massive part of that journey\, join us for the nest few weeks so we can see where we are going and how we can help other onto this amazing road God has put us on. \n\nCome Sunday night @ 6:30\, bring your thoughts and questions!!\n\n“COME AS YOU ARE!”\n \nHave you ever been curious…\nEver wondered what church and God are all about…\nAre you curious what hope is supposed to look like….\nDo you aver ask\, is life more than what I see in front of me?\nLife is hard and we weren’t meant to walk it without hope\, without joy or without peace. It took me a long time of running from a God a thought I knew to see that.\nI’d like to introduce everyone to THE God\, the one that found me and showed me we were meant for so much more.\nDoesn’t matter what we’ve done\, what we look like or what people may think of us. It’s about knowing a God that wants something more for us than just simply surviving. He doesn’t care about our past\, He wants to give us a better future.\nCome and see for yourself then decide for yourself\, in a place that is safe and you are free to question and ask questions and expect a response not just a quick answer\, I had those questions\, so I want to be able to try and answer them\, I’m gonna fail at times\, because we all do at times. That’s why God gives us Grace…\nSee what it looks like\, Sunday nights at 6:30\nNight Church…where “come as you are” means what it says.\n 
URL:https://albc.ca/event/https-albc-ca-ministries-night-church/
LOCATION:Abundant Life Baptist Church\, 1396 Plessis Road\, Winnipeg\, Manitoba\, R2C 4L1
CATEGORIES:Children,Church Wide,Men,Women,Youth
ATTACH;FMTTYPE=image/png:https://albc.ca/wp-content/uploads/2021/10/Adobe_Express_20230426_1012240_1-e1682523339621.png
END:VEVENT
BEGIN:VEVENT
DTSTART;TZID=America/Winnipeg:20230327T080000
DTEND;TZID=America/Winnipeg:20230327T170000
DTSTAMP:20260421T065958
CREATED:20230222T174027Z
LAST-MODIFIED:20230222T174135Z
UID:2333-1679904000-1679936400@albc.ca
SUMMARY:Spring Break Day Camp 2023
DESCRIPTION:DAY 1\n \nSpecial Event: Kid City – Archibald
URL:https://albc.ca/event/spring-break-day-camp-2023/
LOCATION:Abundant Life Baptist Church\, 1396 Plessis Road\, Winnipeg\, Manitoba\, R2C 4L1
CATEGORIES:Children,Church Wide,Family,Youth
END:VEVENT
BEGIN:VEVENT
DTSTART;TZID=America/Winnipeg:20221217T153000
DTEND;TZID=America/Winnipeg:20221217T220000
DTSTAMP:20260421T065958
CREATED:20221129T163325Z
LAST-MODIFIED:20221129T191600Z
UID:2287-1671291000-1671314400@albc.ca
SUMMARY:Family Christmas Party!
DESCRIPTION:A whole day event featuring games\, a car rally\, supervised kids’ activities\, supper\, celebration service and the movie\, “The Nativity Story”. \n \nSCHEDULE!
URL:https://albc.ca/event/family-christmas-party/
LOCATION:Abundant Life Baptist Church\, 1396 Plessis Road\, Winnipeg\, Manitoba\, R2C 4L1
CATEGORIES:Children,Christmas,Church Wide,Family,Men,Women,Youth
ORGANIZER;CN="Brad Quiring":MAILTO:info@albc.ca
END:VEVENT
BEGIN:VEVENT
DTSTART;TZID=America/Winnipeg:20220807T103000
DTEND;TZID=America/Winnipeg:20220807T233000
DTSTAMP:20260421T065958
CREATED:20220703T151434Z
LAST-MODIFIED:20220703T151434Z
UID:2159-1659868200-1659915000@albc.ca
SUMMARY:10:30 am Service on August 7\, 2022
DESCRIPTION:
URL:https://albc.ca/event/1030-am-service-on-august-7-2022/
LOCATION:Abundant Life Baptist Church\, 1396 Plessis Road\, Winnipeg\, Manitoba\, R2C 4L1
CATEGORIES:Church Wide
END:VEVENT
BEGIN:VEVENT
DTSTART;TZID=America/Winnipeg:20220627T173000
DTEND;TZID=America/Winnipeg:20220627T193000
DTSTAMP:20260421T065958
CREATED:20220624T171238Z
LAST-MODIFIED:20220624T171238Z
UID:2145-1656351000-1656358200@albc.ca
SUMMARY:Ladies of ALBC Picnic/BBQ
DESCRIPTION:Come and join us for some fun\, fellowship\, and fresh air! \nWe will be having a Picnic/BBQ at Harbourview Park. \nWhen: June 27\, 2022 @ 5:30pm \nWhere: 1867 Springfield Rd\, Wpg.  *Meet at the playground near the tennis courts* \nBring a lawn chair if you have one.  The meal is provided – just bring your lovely selves 😊 \n  \nRSVP to Fran Ethier @ 204 294-5553 or  franmyown@gmail.com or\, \nPatricia Sawicki  204 803-1763 phone or text
URL:https://albc.ca/event/ladies-of-albc-picnic-bbq/
CATEGORIES:Church Wide,Women
ATTACH;FMTTYPE=image/jpeg:https://albc.ca/wp-content/uploads/2022/06/Picture1.jpg
END:VEVENT
BEGIN:VEVENT
DTSTART;TZID=America/Winnipeg:20220416T170000
DTEND;TZID=America/Winnipeg:20220416T210000
DTSTAMP:20260421T065958
CREATED:20220312T030236Z
LAST-MODIFIED:20220318T131644Z
UID:2009-1650128400-1650142800@albc.ca
SUMMARY:Passover Seder
DESCRIPTION:More Information
URL:https://albc.ca/event/passover-seder/
LOCATION:Abundant Life Baptist Church\, 1396 Plessis Road\, Winnipeg\, Manitoba\, R2C 4L1
CATEGORIES:Church Wide
ATTACH;FMTTYPE=image/jpeg:https://albc.ca/wp-content/uploads/2022/03/ALBC-Passover-Seder-Flyer-16-4-22.jpg
END:VEVENT
BEGIN:VEVENT
DTSTART;TZID=America/Winnipeg:20220206T114500
DTEND;TZID=America/Winnipeg:20220206T134500
DTSTAMP:20260421T065958
CREATED:20220206T042352Z
LAST-MODIFIED:20220206T042352Z
UID:1835-1644147900-1644155100@albc.ca
SUMMARY:AGM Registration - February 6\, 2022
DESCRIPTION:
URL:https://albc.ca/event/agm-registration-february-6-2022/
LOCATION:Abundant Life Baptist Church\, 1396 Plessis Road\, Winnipeg\, Manitoba\, R2C 4L1
CATEGORIES:Church Wide
END:VEVENT
BEGIN:VEVENT
DTSTART;TZID=America/Winnipeg:20220129T100000
DTEND;TZID=America/Winnipeg:20220129T150000
DTSTAMP:20260421T065958
CREATED:20220114T024552Z
LAST-MODIFIED:20220114T024615Z
UID:1793-1643450400-1643468400@albc.ca
SUMMARY:Evangelism Seminar
DESCRIPTION:Learn to share your faith at an in-person Evangelism Seminar \nLead by Danny McKay
URL:https://albc.ca/event/evangelism-seminar/
LOCATION:Abundant Life Baptist Church\, 1396 Plessis Road\, Winnipeg\, Manitoba\, R2C 4L1
CATEGORIES:Church Wide
END:VEVENT
BEGIN:VEVENT
DTSTART;TZID=America/Winnipeg:20220116T120000
DTEND;TZID=America/Winnipeg:20220116T150000
DTSTAMP:20260421T065958
CREATED:20220106T035441Z
LAST-MODIFIED:20220106T035659Z
UID:1783-1642334400-1642345200@albc.ca
SUMMARY:Membership Class - January 16\, 2022
DESCRIPTION:*Includes lunch\n\n 
URL:https://albc.ca/event/membership-class-january-16-2022/
LOCATION:Abundant Life Baptist Church\, 1396 Plessis Road\, Winnipeg\, Manitoba\, R2C 4L1
CATEGORIES:Church Wide
END:VEVENT
END:VCALENDAR